BEGIN:VCALENDAR
VERSION:2.0
PRODID:-//Hope of The Delta - ECPv6.15.13//NONSGML v1.0//EN
CALSCALE:GREGORIAN
METHOD:PUBLISH
X-ORIGINAL-URL:https://hopeofthedelta.org
X-WR-CALDESC:Events for Hope of The Delta
REFRESH-INTERVAL;VALUE=DURATION:PT1H
X-Robots-Tag:noindex
X-PUBLISHED-TTL:PT1H
BEGIN:VTIMEZONE
TZID:America/Chicago
BEGIN:DAYLIGHT
TZOFFSETFROM:-0600
TZOFFSETTO:-0500
TZNAME:CDT
DTSTART:20250309T080000
END:DAYLIGHT
BEGIN:STANDARD
TZOFFSETFROM:-0500
TZOFFSETTO:-0600
TZNAME:CST
DTSTART:20251102T070000
END:STANDARD
BEGIN:DAYLIGHT
TZOFFSETFROM:-0600
TZOFFSETTO:-0500
TZNAME:CDT
DTSTART:20260308T080000
END:DAYLIGHT
BEGIN:STANDARD
TZOFFSETFROM:-0500
TZOFFSETTO:-0600
TZNAME:CST
DTSTART:20261101T070000
END:STANDARD
BEGIN:DAYLIGHT
TZOFFSETFROM:-0600
TZOFFSETTO:-0500
TZNAME:CDT
DTSTART:20270314T080000
END:DAYLIGHT
BEGIN:STANDARD
TZOFFSETFROM:-0500
TZOFFSETTO:-0600
TZNAME:CST
DTSTART:20271107T070000
END:STANDARD
END:VTIMEZONE
BEGIN:VEVENT
DTSTART;TZID=America/Chicago:20260302T093000
DTEND;TZID=America/Chicago:20260302T153000
DTSTAMP:20260422T031900
CREATED:20260226T211033Z
LAST-MODIFIED:20260226T211033Z
UID:2072-1772443800-1772465400@hopeofthedelta.org
SUMMARY:East End
DESCRIPTION:
URL:https://hopeofthedelta.org/mobile-unit/east-end-49/
END:VEVENT
BEGIN:VEVENT
DTSTART;TZID=America/Chicago:20260304T093000
DTEND;TZID=America/Chicago:20260304T153000
DTSTAMP:20260422T031900
CREATED:20260226T211250Z
LAST-MODIFIED:20260226T211250Z
UID:2082-1772616600-1772638200@hopeofthedelta.org
SUMMARY:Dumas
DESCRIPTION:
URL:https://hopeofthedelta.org/mobile-unit/dumas-55/
END:VEVENT
BEGIN:VEVENT
DTSTART;TZID=America/Chicago:20260309T093000
DTEND;TZID=America/Chicago:20260309T153000
DTSTAMP:20260422T031900
CREATED:20260226T211101Z
LAST-MODIFIED:20260226T211101Z
UID:2074-1773048600-1773070200@hopeofthedelta.org
SUMMARY:East End
DESCRIPTION:
URL:https://hopeofthedelta.org/mobile-unit/east-end-50/
END:VEVENT
BEGIN:VEVENT
DTSTART;TZID=America/Chicago:20260312T090000
DTEND;TZID=America/Chicago:20260312T160000
DTSTAMP:20260422T031900
CREATED:20260226T211215Z
LAST-MODIFIED:20260226T211215Z
UID:2080-1773306000-1773331200@hopeofthedelta.org
SUMMARY:Star City
DESCRIPTION:
URL:https://hopeofthedelta.org/mobile-unit/star-city-28/
END:VEVENT
BEGIN:VEVENT
DTSTART;TZID=America/Chicago:20260313T093000
DTEND;TZID=America/Chicago:20260313T153000
DTSTAMP:20260422T031900
CREATED:20260226T211311Z
LAST-MODIFIED:20260226T211311Z
UID:2084-1773394200-1773415800@hopeofthedelta.org
SUMMARY:Dumas
DESCRIPTION:
URL:https://hopeofthedelta.org/mobile-unit/dumas-56/
END:VEVENT
BEGIN:VEVENT
DTSTART;TZID=America/Chicago:20260316T093000
DTEND;TZID=America/Chicago:20260316T153000
DTSTAMP:20260422T031900
CREATED:20260226T211124Z
LAST-MODIFIED:20260226T211124Z
UID:2076-1773653400-1773675000@hopeofthedelta.org
SUMMARY:East End
DESCRIPTION:
URL:https://hopeofthedelta.org/mobile-unit/east-end-51/
END:VEVENT
BEGIN:VEVENT
DTSTART;TZID=America/Chicago:20260318T093000
DTEND;TZID=America/Chicago:20260318T153000
DTSTAMP:20260422T031900
CREATED:20260226T211333Z
LAST-MODIFIED:20260226T211333Z
UID:2086-1773826200-1773847800@hopeofthedelta.org
SUMMARY:Dumas
DESCRIPTION:
URL:https://hopeofthedelta.org/mobile-unit/dumas-57/
END:VEVENT
BEGIN:VEVENT
DTSTART;TZID=America/Chicago:20260330T093000
DTEND;TZID=America/Chicago:20260330T153000
DTSTAMP:20260422T031900
CREATED:20260226T211147Z
LAST-MODIFIED:20260226T211147Z
UID:2078-1774863000-1774884600@hopeofthedelta.org
SUMMARY:East End
DESCRIPTION:
URL:https://hopeofthedelta.org/mobile-unit/east-end-52/
END:VEVENT
END:VCALENDAR