BEGIN:VCALENDAR
VERSION:2.0
PRODID:-//Hope of The Delta - ECPv6.15.13//NONSGML v1.0//EN
CALSCALE:GREGORIAN
METHOD:PUBLISH
X-ORIGINAL-URL:https://hopeofthedelta.org
X-WR-CALDESC:Events for Hope of The Delta
REFRESH-INTERVAL;VALUE=DURATION:PT1H
X-Robots-Tag:noindex
X-PUBLISHED-TTL:PT1H
BEGIN:VTIMEZONE
TZID:America/Chicago
BEGIN:DAYLIGHT
TZOFFSETFROM:-0600
TZOFFSETTO:-0500
TZNAME:CDT
DTSTART:20240310T080000
END:DAYLIGHT
BEGIN:STANDARD
TZOFFSETFROM:-0500
TZOFFSETTO:-0600
TZNAME:CST
DTSTART:20241103T070000
END:STANDARD
BEGIN:DAYLIGHT
TZOFFSETFROM:-0600
TZOFFSETTO:-0500
TZNAME:CDT
DTSTART:20250309T080000
END:DAYLIGHT
BEGIN:STANDARD
TZOFFSETFROM:-0500
TZOFFSETTO:-0600
TZNAME:CST
DTSTART:20251102T070000
END:STANDARD
BEGIN:DAYLIGHT
TZOFFSETFROM:-0600
TZOFFSETTO:-0500
TZNAME:CDT
DTSTART:20260308T080000
END:DAYLIGHT
BEGIN:STANDARD
TZOFFSETFROM:-0500
TZOFFSETTO:-0600
TZNAME:CST
DTSTART:20261101T070000
END:STANDARD
END:VTIMEZONE
BEGIN:VEVENT
DTSTART;TZID=America/Chicago:20251201T093000
DTEND;TZID=America/Chicago:20251201T153000
DTSTAMP:20260422T073919
CREATED:20251119T192834Z
LAST-MODIFIED:20251119T192834Z
UID:2018-1764581400-1764603000@hopeofthedelta.org
SUMMARY:East End
DESCRIPTION:
URL:https://hopeofthedelta.org/mobile-unit/east-end-45/
END:VEVENT
BEGIN:VEVENT
DTSTART;TZID=America/Chicago:20251204T090000
DTEND;TZID=America/Chicago:20251204T160000
DTSTAMP:20260422T073919
CREATED:20251119T193011Z
LAST-MODIFIED:20251119T193318Z
UID:2024-1764838800-1764864000@hopeofthedelta.org
SUMMARY:Star City
DESCRIPTION:
URL:https://hopeofthedelta.org/mobile-unit/star-city-25/
END:VEVENT
BEGIN:VEVENT
DTSTART;TZID=America/Chicago:20251205T093000
DTEND;TZID=America/Chicago:20251205T153000
DTSTAMP:20260422T073919
CREATED:20251119T193058Z
LAST-MODIFIED:20251119T193058Z
UID:2028-1764927000-1764948600@hopeofthedelta.org
SUMMARY:Dumas
DESCRIPTION:
URL:https://hopeofthedelta.org/mobile-unit/dumas-50/
END:VEVENT
BEGIN:VEVENT
DTSTART;TZID=America/Chicago:20251210T103000
DTEND;TZID=America/Chicago:20251210T153000
DTSTAMP:20260422T073919
CREATED:20251119T192936Z
LAST-MODIFIED:20251119T192936Z
UID:2022-1765362600-1765380600@hopeofthedelta.org
SUMMARY:Dumas
DESCRIPTION:
URL:https://hopeofthedelta.org/mobile-unit/dumas-49/
END:VEVENT
BEGIN:VEVENT
DTSTART;TZID=America/Chicago:20251215T093000
DTEND;TZID=America/Chicago:20251215T153000
DTSTAMP:20260422T073919
CREATED:20251119T192901Z
LAST-MODIFIED:20251119T192901Z
UID:2020-1765791000-1765812600@hopeofthedelta.org
SUMMARY:East End
DESCRIPTION:
URL:https://hopeofthedelta.org/mobile-unit/east-end-46/
END:VEVENT
BEGIN:VEVENT
DTSTART;TZID=America/Chicago:20251218T090000
DTEND;TZID=America/Chicago:20251218T160000
DTSTAMP:20260422T073919
CREATED:20251119T193038Z
LAST-MODIFIED:20251119T193338Z
UID:2026-1766048400-1766073600@hopeofthedelta.org
SUMMARY:Star City
DESCRIPTION:
URL:https://hopeofthedelta.org/mobile-unit/star-city-26/
END:VEVENT
BEGIN:VEVENT
DTSTART;TZID=America/Chicago:20251219T093000
DTEND;TZID=America/Chicago:20251219T153000
DTSTAMP:20260422T073919
CREATED:20251119T193120Z
LAST-MODIFIED:20251119T193120Z
UID:2030-1766136600-1766158200@hopeofthedelta.org
SUMMARY:Dumas
DESCRIPTION:
URL:https://hopeofthedelta.org/mobile-unit/dumas-51/
END:VEVENT
END:VCALENDAR