BEGIN:VCALENDAR
VERSION:2.0
PRODID:-//Hope of The Delta - ECPv6.15.13//NONSGML v1.0//EN
CALSCALE:GREGORIAN
METHOD:PUBLISH
X-WR-CALNAME:Hope of The Delta
X-ORIGINAL-URL:https://hopeofthedelta.org
X-WR-CALDESC:Events for Hope of The Delta
REFRESH-INTERVAL;VALUE=DURATION:PT1H
X-Robots-Tag:noindex
X-PUBLISHED-TTL:PT1H
BEGIN:VTIMEZONE
TZID:America/Chicago
BEGIN:DAYLIGHT
TZOFFSETFROM:-0600
TZOFFSETTO:-0500
TZNAME:CDT
DTSTART:20240310T080000
END:DAYLIGHT
BEGIN:STANDARD
TZOFFSETFROM:-0500
TZOFFSETTO:-0600
TZNAME:CST
DTSTART:20241103T070000
END:STANDARD
BEGIN:DAYLIGHT
TZOFFSETFROM:-0600
TZOFFSETTO:-0500
TZNAME:CDT
DTSTART:20250309T080000
END:DAYLIGHT
BEGIN:STANDARD
TZOFFSETFROM:-0500
TZOFFSETTO:-0600
TZNAME:CST
DTSTART:20251102T070000
END:STANDARD
BEGIN:DAYLIGHT
TZOFFSETFROM:-0600
TZOFFSETTO:-0500
TZNAME:CDT
DTSTART:20260308T080000
END:DAYLIGHT
BEGIN:STANDARD
TZOFFSETFROM:-0500
TZOFFSETTO:-0600
TZNAME:CST
DTSTART:20261101T070000
END:STANDARD
END:VTIMEZONE
BEGIN:VEVENT
DTSTART;TZID=America/Chicago:20251001T093000
DTEND;TZID=America/Chicago:20251001T153000
DTSTAMP:20260422T103428
CREATED:20250924T205528Z
LAST-MODIFIED:20250924T205528Z
UID:1991-1759311000-1759332600@hopeofthedelta.org
SUMMARY:Dumas
DESCRIPTION:
URL:https://hopeofthedelta.org/mobile-unit/dumas-41/
END:VEVENT
BEGIN:VEVENT
DTSTART;TZID=America/Chicago:20251006T093000
DTEND;TZID=America/Chicago:20251006T153000
DTSTAMP:20260422T103428
CREATED:20250924T205433Z
LAST-MODIFIED:20250924T205433Z
UID:1987-1759743000-1759764600@hopeofthedelta.org
SUMMARY:East End
DESCRIPTION:
URL:https://hopeofthedelta.org/mobile-unit/east-end-40/
END:VEVENT
BEGIN:VEVENT
DTSTART;TZID=America/Chicago:20251009T090000
DTEND;TZID=America/Chicago:20251009T160000
DTSTAMP:20260422T103428
CREATED:20250924T205332Z
LAST-MODIFIED:20250924T205332Z
UID:1983-1760000400-1760025600@hopeofthedelta.org
SUMMARY:Star City
DESCRIPTION:
URL:https://hopeofthedelta.org/mobile-unit/star-city-21/
END:VEVENT
BEGIN:VEVENT
DTSTART;TZID=America/Chicago:20251010T093000
DTEND;TZID=America/Chicago:20251010T153000
DTSTAMP:20260422T103428
CREATED:20250924T205551Z
LAST-MODIFIED:20250924T205551Z
UID:1993-1760088600-1760110200@hopeofthedelta.org
SUMMARY:Dumas
DESCRIPTION:
URL:https://hopeofthedelta.org/mobile-unit/dumas-42/
END:VEVENT
BEGIN:VEVENT
DTSTART;TZID=America/Chicago:20251015T093000
DTEND;TZID=America/Chicago:20251015T153000
DTSTAMP:20260422T103428
CREATED:20250924T205622Z
LAST-MODIFIED:20250924T205622Z
UID:1995-1760520600-1760542200@hopeofthedelta.org
SUMMARY:Dumas
DESCRIPTION:
URL:https://hopeofthedelta.org/mobile-unit/dumas-43/
END:VEVENT
BEGIN:VEVENT
DTSTART;TZID=America/Chicago:20251020T093000
DTEND;TZID=America/Chicago:20251020T153000
DTSTAMP:20260422T103428
CREATED:20250924T205458Z
LAST-MODIFIED:20250924T205458Z
UID:1989-1760952600-1760974200@hopeofthedelta.org
SUMMARY:East End
DESCRIPTION:
URL:https://hopeofthedelta.org/mobile-unit/east-end-41/
END:VEVENT
BEGIN:VEVENT
DTSTART;TZID=America/Chicago:20251023T090000
DTEND;TZID=America/Chicago:20251023T160000
DTSTAMP:20260422T103428
CREATED:20250924T205407Z
LAST-MODIFIED:20250924T205407Z
UID:1985-1761210000-1761235200@hopeofthedelta.org
SUMMARY:Star City
DESCRIPTION:
URL:https://hopeofthedelta.org/mobile-unit/star-city-22/
END:VEVENT
BEGIN:VEVENT
DTSTART;TZID=America/Chicago:20251024T093000
DTEND;TZID=America/Chicago:20251024T163000
DTSTAMP:20260422T103428
CREATED:20250924T205644Z
LAST-MODIFIED:20250924T205644Z
UID:1997-1761298200-1761323400@hopeofthedelta.org
SUMMARY:Dumas
DESCRIPTION:
URL:https://hopeofthedelta.org/mobile-unit/dumas-44/
END:VEVENT
BEGIN:VEVENT
DTSTART;TZID=America/Chicago:20251029T093000
DTEND;TZID=America/Chicago:20251029T153000
DTSTAMP:20260422T103428
CREATED:20250924T205707Z
LAST-MODIFIED:20250924T205707Z
UID:1999-1761730200-1761751800@hopeofthedelta.org
SUMMARY:Dumas
DESCRIPTION:
URL:https://hopeofthedelta.org/mobile-unit/dumas-45/
END:VEVENT
END:VCALENDAR