BEGIN:VCALENDAR
VERSION:2.0
PRODID:-//Hope of The Delta - ECPv6.15.13//NONSGML v1.0//EN
CALSCALE:GREGORIAN
METHOD:PUBLISH
X-WR-CALNAME:Hope of The Delta
X-ORIGINAL-URL:https://hopeofthedelta.org
X-WR-CALDESC:Events for Hope of The Delta
REFRESH-INTERVAL;VALUE=DURATION:PT1H
X-Robots-Tag:noindex
X-PUBLISHED-TTL:PT1H
BEGIN:VTIMEZONE
TZID:America/Chicago
BEGIN:DAYLIGHT
TZOFFSETFROM:-0600
TZOFFSETTO:-0500
TZNAME:CDT
DTSTART:20240310T080000
END:DAYLIGHT
BEGIN:STANDARD
TZOFFSETFROM:-0500
TZOFFSETTO:-0600
TZNAME:CST
DTSTART:20241103T070000
END:STANDARD
BEGIN:DAYLIGHT
TZOFFSETFROM:-0600
TZOFFSETTO:-0500
TZNAME:CDT
DTSTART:20250309T080000
END:DAYLIGHT
BEGIN:STANDARD
TZOFFSETFROM:-0500
TZOFFSETTO:-0600
TZNAME:CST
DTSTART:20251102T070000
END:STANDARD
BEGIN:DAYLIGHT
TZOFFSETFROM:-0600
TZOFFSETTO:-0500
TZNAME:CDT
DTSTART:20260308T080000
END:DAYLIGHT
BEGIN:STANDARD
TZOFFSETFROM:-0500
TZOFFSETTO:-0600
TZNAME:CST
DTSTART:20261101T070000
END:STANDARD
END:VTIMEZONE
BEGIN:VEVENT
DTSTART;TZID=America/Chicago:20250505T093000
DTEND;TZID=America/Chicago:20250505T153000
DTSTAMP:20260422T171219
CREATED:20250501T132457Z
LAST-MODIFIED:20250501T132457Z
UID:1856-1746437400-1746459000@hopeofthedelta.org
SUMMARY:East End
DESCRIPTION:
URL:https://hopeofthedelta.org/mobile-unit/east-end-21/
END:VEVENT
BEGIN:VEVENT
DTSTART;TZID=America/Chicago:20250508T090000
DTEND;TZID=America/Chicago:20250508T160000
DTSTAMP:20260422T171219
CREATED:20250501T132622Z
LAST-MODIFIED:20250501T132622Z
UID:1862-1746694800-1746720000@hopeofthedelta.org
SUMMARY:Star City
DESCRIPTION:
URL:https://hopeofthedelta.org/mobile-unit/star-city-12/
END:VEVENT
BEGIN:VEVENT
DTSTART;TZID=America/Chicago:20250509T093000
DTEND;TZID=America/Chicago:20250509T153000
DTSTAMP:20260422T171219
CREATED:20250501T132644Z
LAST-MODIFIED:20250501T132644Z
UID:1864-1746783000-1746804600@hopeofthedelta.org
SUMMARY:Dumas
DESCRIPTION:
URL:https://hopeofthedelta.org/mobile-unit/dumas-23/
END:VEVENT
BEGIN:VEVENT
DTSTART;TZID=America/Chicago:20250512T093000
DTEND;TZID=America/Chicago:20250512T153000
DTSTAMP:20260422T171219
CREATED:20250501T132525Z
LAST-MODIFIED:20250501T132525Z
UID:1858-1747042200-1747063800@hopeofthedelta.org
SUMMARY:East End
DESCRIPTION:
URL:https://hopeofthedelta.org/mobile-unit/east-end-22/
END:VEVENT
BEGIN:VEVENT
DTSTART;TZID=America/Chicago:20250514T093000
DTEND;TZID=America/Chicago:20250514T153000
DTSTAMP:20260422T171219
CREATED:20250501T132706Z
LAST-MODIFIED:20250501T132706Z
UID:1866-1747215000-1747236600@hopeofthedelta.org
SUMMARY:Dumas
DESCRIPTION:
URL:https://hopeofthedelta.org/mobile-unit/dumas-24/
END:VEVENT
BEGIN:VEVENT
DTSTART;TZID=America/Chicago:20250519T093000
DTEND;TZID=America/Chicago:20250519T153000
DTSTAMP:20260422T171219
CREATED:20250501T132551Z
LAST-MODIFIED:20250501T132551Z
UID:1860-1747647000-1747668600@hopeofthedelta.org
SUMMARY:East End
DESCRIPTION:
URL:https://hopeofthedelta.org/mobile-unit/east-end-23/
END:VEVENT
BEGIN:VEVENT
DTSTART;TZID=America/Chicago:20250522T090000
DTEND;TZID=America/Chicago:20250522T160000
DTSTAMP:20260422T171219
CREATED:20250501T132740Z
LAST-MODIFIED:20250501T133029Z
UID:1868-1747904400-1747929600@hopeofthedelta.org
SUMMARY:Star City
DESCRIPTION:
URL:https://hopeofthedelta.org/mobile-unit/star-city-13/
END:VEVENT
BEGIN:VEVENT
DTSTART;TZID=America/Chicago:20250523T093000
DTEND;TZID=America/Chicago:20250523T153000
DTSTAMP:20260422T171219
CREATED:20250501T132805Z
LAST-MODIFIED:20250501T132805Z
UID:1870-1747992600-1748014200@hopeofthedelta.org
SUMMARY:Dumas
DESCRIPTION:
URL:https://hopeofthedelta.org/mobile-unit/dumas-25/
END:VEVENT
BEGIN:VEVENT
DTSTART;TZID=America/Chicago:20250528T093000
DTEND;TZID=America/Chicago:20250528T153000
DTSTAMP:20260422T171219
CREATED:20250501T132829Z
LAST-MODIFIED:20250501T132829Z
UID:1872-1748424600-1748446200@hopeofthedelta.org
SUMMARY:Dumas
DESCRIPTION:
URL:https://hopeofthedelta.org/mobile-unit/dumas-26/
END:VEVENT
END:VCALENDAR