BEGIN:VCALENDAR
VERSION:2.0
PRODID:-//Hope of The Delta - ECPv6.15.13//NONSGML v1.0//EN
CALSCALE:GREGORIAN
METHOD:PUBLISH
X-WR-CALNAME:Hope of The Delta
X-ORIGINAL-URL:https://hopeofthedelta.org
X-WR-CALDESC:Events for Hope of The Delta
REFRESH-INTERVAL;VALUE=DURATION:PT1H
X-Robots-Tag:noindex
X-PUBLISHED-TTL:PT1H
BEGIN:VTIMEZONE
TZID:America/Chicago
BEGIN:DAYLIGHT
TZOFFSETFROM:-0600
TZOFFSETTO:-0500
TZNAME:CDT
DTSTART:20240310T080000
END:DAYLIGHT
BEGIN:STANDARD
TZOFFSETFROM:-0500
TZOFFSETTO:-0600
TZNAME:CST
DTSTART:20241103T070000
END:STANDARD
BEGIN:DAYLIGHT
TZOFFSETFROM:-0600
TZOFFSETTO:-0500
TZNAME:CDT
DTSTART:20250309T080000
END:DAYLIGHT
BEGIN:STANDARD
TZOFFSETFROM:-0500
TZOFFSETTO:-0600
TZNAME:CST
DTSTART:20251102T070000
END:STANDARD
BEGIN:DAYLIGHT
TZOFFSETFROM:-0600
TZOFFSETTO:-0500
TZNAME:CDT
DTSTART:20260308T080000
END:DAYLIGHT
BEGIN:STANDARD
TZOFFSETFROM:-0500
TZOFFSETTO:-0600
TZNAME:CST
DTSTART:20261101T070000
END:STANDARD
END:VTIMEZONE
BEGIN:VEVENT
DTSTART;TZID=America/Chicago:20250303T093000
DTEND;TZID=America/Chicago:20250303T153000
DTSTAMP:20260422T201413
CREATED:20250226T164254Z
LAST-MODIFIED:20250226T164254Z
UID:1794-1740994200-1741015800@hopeofthedelta.org
SUMMARY:East End
DESCRIPTION:
URL:https://hopeofthedelta.org/mobile-unit/east-end-15/
END:VEVENT
BEGIN:VEVENT
DTSTART;TZID=America/Chicago:20250305T093000
DTEND;TZID=America/Chicago:20250305T153000
DTSTAMP:20260422T201413
CREATED:20250226T163301Z
LAST-MODIFIED:20250226T164118Z
UID:1791-1741167000-1741188600@hopeofthedelta.org
SUMMARY:Dumas
DESCRIPTION:
URL:https://hopeofthedelta.org/mobile-unit/east-end-14/
END:VEVENT
BEGIN:VEVENT
DTSTART;TZID=America/Chicago:20250310T093000
DTEND;TZID=America/Chicago:20250310T153000
DTSTAMP:20260422T201413
CREATED:20250226T164327Z
LAST-MODIFIED:20250226T164327Z
UID:1796-1741599000-1741620600@hopeofthedelta.org
SUMMARY:East End
DESCRIPTION:
URL:https://hopeofthedelta.org/mobile-unit/east-end-16/
END:VEVENT
BEGIN:VEVENT
DTSTART;TZID=America/Chicago:20250313T090000
DTEND;TZID=America/Chicago:20250313T160000
DTSTAMP:20260422T201413
CREATED:20250226T215333Z
LAST-MODIFIED:20250226T220816Z
UID:1810-1741856400-1741881600@hopeofthedelta.org
SUMMARY:Star City
DESCRIPTION:
URL:https://hopeofthedelta.org/mobile-unit/star-city-9/
END:VEVENT
BEGIN:VEVENT
DTSTART;TZID=America/Chicago:20250314T093000
DTEND;TZID=America/Chicago:20250314T153000
DTSTAMP:20260422T201413
CREATED:20250226T215218Z
LAST-MODIFIED:20250226T215218Z
UID:1806-1741944600-1741966200@hopeofthedelta.org
SUMMARY:Dumas
DESCRIPTION:
URL:https://hopeofthedelta.org/mobile-unit/dumas-17/
END:VEVENT
BEGIN:VEVENT
DTSTART;TZID=America/Chicago:20250317T093000
DTEND;TZID=America/Chicago:20250317T153000
DTSTAMP:20260422T201413
CREATED:20250226T214923Z
LAST-MODIFIED:20250227T175437Z
UID:1800-1742203800-1742225400@hopeofthedelta.org
SUMMARY:East End
DESCRIPTION:
URL:https://hopeofthedelta.org/mobile-unit/east-end-18/
END:VEVENT
BEGIN:VEVENT
DTSTART;TZID=America/Chicago:20250319T093000
DTEND;TZID=America/Chicago:20250319T153000
DTSTAMP:20260422T201413
CREATED:20250226T215132Z
LAST-MODIFIED:20250226T215132Z
UID:1804-1742376600-1742398200@hopeofthedelta.org
SUMMARY:Dumas
DESCRIPTION:
URL:https://hopeofthedelta.org/mobile-unit/dumas-16/
END:VEVENT
BEGIN:VEVENT
DTSTART;TZID=America/Chicago:20250331T093000
DTEND;TZID=America/Chicago:20250331T153000
DTSTAMP:20260422T201413
CREATED:20250226T215010Z
LAST-MODIFIED:20250226T215010Z
UID:1802-1743413400-1743435000@hopeofthedelta.org
SUMMARY:East End
DESCRIPTION:
URL:https://hopeofthedelta.org/mobile-unit/east-end-19/
END:VEVENT
END:VCALENDAR