BEGIN:VCALENDAR
VERSION:2.0
PRODID:-//Hope of The Delta - ECPv6.15.13//NONSGML v1.0//EN
CALSCALE:GREGORIAN
METHOD:PUBLISH
X-ORIGINAL-URL:https://hopeofthedelta.org
X-WR-CALDESC:Events for Hope of The Delta
REFRESH-INTERVAL;VALUE=DURATION:PT1H
X-Robots-Tag:noindex
X-PUBLISHED-TTL:PT1H
BEGIN:VTIMEZONE
TZID:America/Chicago
BEGIN:DAYLIGHT
TZOFFSETFROM:-0600
TZOFFSETTO:-0500
TZNAME:CDT
DTSTART:20240310T080000
END:DAYLIGHT
BEGIN:STANDARD
TZOFFSETFROM:-0500
TZOFFSETTO:-0600
TZNAME:CST
DTSTART:20241103T070000
END:STANDARD
BEGIN:DAYLIGHT
TZOFFSETFROM:-0600
TZOFFSETTO:-0500
TZNAME:CDT
DTSTART:20250309T080000
END:DAYLIGHT
BEGIN:STANDARD
TZOFFSETFROM:-0500
TZOFFSETTO:-0600
TZNAME:CST
DTSTART:20251102T070000
END:STANDARD
BEGIN:DAYLIGHT
TZOFFSETFROM:-0600
TZOFFSETTO:-0500
TZNAME:CDT
DTSTART:20260308T080000
END:DAYLIGHT
BEGIN:STANDARD
TZOFFSETFROM:-0500
TZOFFSETTO:-0600
TZNAME:CST
DTSTART:20261101T070000
END:STANDARD
END:VTIMEZONE
BEGIN:VEVENT
DTSTART;TZID=America/Chicago:20250203T093000
DTEND;TZID=America/Chicago:20250203T153000
DTSTAMP:20260422T213837
CREATED:20250130T232629Z
LAST-MODIFIED:20250130T232629Z
UID:1772-1738575000-1738596600@hopeofthedelta.org
SUMMARY:East End
DESCRIPTION:
URL:https://hopeofthedelta.org/mobile-unit/east-end-11/
END:VEVENT
BEGIN:VEVENT
DTSTART;TZID=America/Chicago:20250205T093000
DTEND;TZID=America/Chicago:20250205T153000
DTSTAMP:20260422T213837
CREATED:20250130T232929Z
LAST-MODIFIED:20250130T232929Z
UID:1781-1738747800-1738769400@hopeofthedelta.org
SUMMARY:Dumas
DESCRIPTION:
URL:https://hopeofthedelta.org/mobile-unit/dumas-13/
END:VEVENT
BEGIN:VEVENT
DTSTART;TZID=America/Chicago:20250210T093000
DTEND;TZID=America/Chicago:20250210T153000
DTSTAMP:20260422T213837
CREATED:20250130T232304Z
LAST-MODIFIED:20250130T232304Z
UID:1773-1739179800-1739201400@hopeofthedelta.org
SUMMARY:East End
DESCRIPTION:
URL:https://hopeofthedelta.org/mobile-unit/east-end-10/
END:VEVENT
BEGIN:VEVENT
DTSTART;TZID=America/Chicago:20250213T090000
DTEND;TZID=America/Chicago:20250213T160000
DTSTAMP:20260422T213837
CREATED:20241209T155907Z
LAST-MODIFIED:20250103T151027Z
UID:1726-1739437200-1739462400@hopeofthedelta.org
SUMMARY:Star City
DESCRIPTION:
URL:https://hopeofthedelta.org/mobile-unit/star-city-5/
END:VEVENT
BEGIN:VEVENT
DTSTART;TZID=America/Chicago:20250214T093000
DTEND;TZID=America/Chicago:20250214T153000
DTSTAMP:20260422T213837
CREATED:20241209T160027Z
LAST-MODIFIED:20250103T151117Z
UID:1732-1739525400-1739547000@hopeofthedelta.org
SUMMARY:Dumas
DESCRIPTION:
URL:https://hopeofthedelta.org/mobile-unit/dumas-8/
END:VEVENT
BEGIN:VEVENT
DTSTART;TZID=America/Chicago:20250217T093000
DTEND;TZID=America/Chicago:20250217T153000
DTSTAMP:20260422T213837
CREATED:20250130T232711Z
LAST-MODIFIED:20250130T232711Z
UID:1775-1739784600-1739806200@hopeofthedelta.org
SUMMARY:East End
DESCRIPTION:
URL:https://hopeofthedelta.org/mobile-unit/east-end-12/
END:VEVENT
BEGIN:VEVENT
DTSTART;TZID=America/Chicago:20250219T093000
DTEND;TZID=America/Chicago:20250219T153000
DTSTAMP:20260422T213837
CREATED:20250130T233215Z
LAST-MODIFIED:20250203T161100Z
UID:1783-1739957400-1739979000@hopeofthedelta.org
SUMMARY:Dumas
DESCRIPTION:
URL:https://hopeofthedelta.org/mobile-unit/dumas-14/
END:VEVENT
BEGIN:VEVENT
DTSTART;TZID=America/Chicago:20250224T093000
DTEND;TZID=America/Chicago:20250224T153000
DTSTAMP:20260422T213837
CREATED:20250130T232747Z
LAST-MODIFIED:20250130T232747Z
UID:1779-1740389400-1740411000@hopeofthedelta.org
SUMMARY:East End
DESCRIPTION:
URL:https://hopeofthedelta.org/mobile-unit/east-end-13/
END:VEVENT
BEGIN:VEVENT
DTSTART;TZID=America/Chicago:20250227T090000
DTEND;TZID=America/Chicago:20250227T160000
DTSTAMP:20260422T213837
CREATED:20250203T160446Z
LAST-MODIFIED:20250203T160446Z
UID:1785-1740646800-1740672000@hopeofthedelta.org
SUMMARY:Star City
DESCRIPTION:
URL:https://hopeofthedelta.org/mobile-unit/star-city-8/
END:VEVENT
BEGIN:VEVENT
DTSTART;TZID=America/Chicago:20250228T093000
DTEND;TZID=America/Chicago:20250228T153000
DTSTAMP:20260422T213837
CREATED:20250203T161316Z
LAST-MODIFIED:20250203T161316Z
UID:1788-1740735000-1740756600@hopeofthedelta.org
SUMMARY:Dumas
DESCRIPTION:
URL:https://hopeofthedelta.org/mobile-unit/dumas-15/
END:VEVENT
END:VCALENDAR